BEGIN:VCALENDAR
VERSION:2.0
PRODID:-//Overbeck-Museum - ECPv5.16.4.1//NONSGML v1.0//EN
CALSCALE:GREGORIAN
METHOD:PUBLISH
X-WR-CALNAME:Overbeck-Museum
X-ORIGINAL-URL:https://overbeck-museum.de/en/
X-WR-CALDESC:Events for Overbeck-Museum
BEGIN:VTIMEZONE
TZID:Europe/Berlin
BEGIN:DAYLIGHT
TZOFFSETFROM:+0100
TZOFFSETTO:+0200
TZNAME:CEST
DTSTART:20240331T010000
END:DAYLIGHT
BEGIN:STANDARD
TZOFFSETFROM:+0200
TZOFFSETTO:+0100
TZNAME:CET
DTSTART:20241027T010000
END:STANDARD
END:VTIMEZONE
BEGIN:VEVENT
DTSTART;VALUE=DATE:20240122
DTEND;VALUE=DATE:20240204
DTSTAMP:20260421T140032
CREATED:20230709T211536Z
LAST-MODIFIED:20230709T211542Z
UID:16816-1705881600-1707004799@overbeck-museum.de
SUMMARY:Closed due to exhibition change
DESCRIPTION:
URL:https://overbeck-museum.de/en/veranstaltung/closed-due-to-exhibition-change/
CATEGORIES:Exhibition Change
END:VEVENT
END:VCALENDAR