BEGIN:VCALENDAR
VERSION:2.0
PRODID:-//Overbeck-Museum - ECPv5.16.4.1//NONSGML v1.0//EN
CALSCALE:GREGORIAN
METHOD:PUBLISH
X-WR-CALNAME:Overbeck-Museum
X-ORIGINAL-URL:https://overbeck-museum.de
X-WR-CALDESC:Veranstaltungen für Overbeck-Museum
BEGIN:VTIMEZONE
TZID:Europe/Berlin
BEGIN:DAYLIGHT
TZOFFSETFROM:+0100
TZOFFSETTO:+0200
TZNAME:CEST
DTSTART:20240331T010000
END:DAYLIGHT
BEGIN:STANDARD
TZOFFSETFROM:+0200
TZOFFSETTO:+0100
TZNAME:CET
DTSTART:20241027T010000
END:STANDARD
END:VTIMEZONE
BEGIN:VEVENT
DTSTART;TZID=Europe/Berlin:20240615T160000
DTEND;TZID=Europe/Berlin:20240615T173000
DTSTAMP:20260422T182656
CREATED:20240213T180307Z
LAST-MODIFIED:20240213T180307Z
UID:17972-1718467200-1718472600@overbeck-museum.de
SUMMARY:Bücher\, die (beinahe) die Welt retten
DESCRIPTION:Buchtipps von Martin Mader und Katja Pourshirazi
URL:https://overbeck-museum.de/veranstaltung/buecher-die-beinahe-die-welt-retten/
LOCATION:Overbeck-Museum\, Alte Hafenstraße 30\, Bremen\, 28757
CATEGORIES:Vortrag
ATTACH;FMTTYPE=image/jpeg:https://overbeck-museum.de/wp-content/uploads/2023/10/Tatort-Natur-500.jpg
ORGANIZER;CN="Overbeck-Museum":MAILTO:info@overbeck-museum.de
END:VEVENT
END:VCALENDAR