BEGIN:VCALENDAR
VERSION:2.0
PRODID:-//Overbeck-Museum - ECPv5.16.4.1//NONSGML v1.0//EN
CALSCALE:GREGORIAN
METHOD:PUBLISH
X-WR-CALNAME:Overbeck-Museum
X-ORIGINAL-URL:https://overbeck-museum.de
X-WR-CALDESC:Veranstaltungen für Overbeck-Museum
BEGIN:VTIMEZONE
TZID:Europe/Berlin
BEGIN:DAYLIGHT
TZOFFSETFROM:+0100
TZOFFSETTO:+0200
TZNAME:CEST
DTSTART:20260329T010000
END:DAYLIGHT
BEGIN:STANDARD
TZOFFSETFROM:+0200
TZOFFSETTO:+0100
TZNAME:CET
DTSTART:20261025T010000
END:STANDARD
END:VTIMEZONE
BEGIN:VEVENT
DTSTART;TZID=Europe/Berlin:20260820T170000
DTEND;TZID=Europe/Berlin:20260820T173000
DTSTAMP:20260419T184600
CREATED:20260219T163740Z
LAST-MODIFIED:20260219T163740Z
UID:19333-1787245200-1787247000@overbeck-museum.de
SUMMARY:Führung Bild des Monats
DESCRIPTION:Die Kurzführungen zum Bild des Monats dauern etwa 30 Minuten.\nKosten: 2 Euro plus Museumseintritt.
URL:https://overbeck-museum.de/veranstaltung/fuehrung-bild-des-monats-126/
LOCATION:Overbeck-Museum\, Alte Hafenstraße 30\, Bremen\, 28757
CATEGORIES:Kurzführung
ORGANIZER;CN="Overbeck-Museum":MAILTO:info@overbeck-museum.de
END:VEVENT
END:VCALENDAR