BEGIN:VCALENDAR
VERSION:2.0
PRODID:-//Overbeck-Museum - ECPv5.16.4.1//NONSGML v1.0//EN
CALSCALE:GREGORIAN
METHOD:PUBLISH
X-WR-CALNAME:Overbeck-Museum
X-ORIGINAL-URL:https://overbeck-museum.de
X-WR-CALDESC:Veranstaltungen für Overbeck-Museum
BEGIN:VTIMEZONE
TZID:Europe/Berlin
BEGIN:DAYLIGHT
TZOFFSETFROM:+0100
TZOFFSETTO:+0200
TZNAME:CEST
DTSTART:20230326T010000
END:DAYLIGHT
BEGIN:STANDARD
TZOFFSETFROM:+0200
TZOFFSETTO:+0100
TZNAME:CET
DTSTART:20231029T010000
END:STANDARD
END:VTIMEZONE
BEGIN:VEVENT
DTSTART;TZID=Europe/Berlin:20231221T170000
DTEND;TZID=Europe/Berlin:20231221T173000
DTSTAMP:20260421T195751
CREATED:20230709T142209Z
LAST-MODIFIED:20231218T111942Z
UID:16795-1703178000-1703179800@overbeck-museum.de
SUMMARY:Führung Bild des Monats - fällt aus!
DESCRIPTION:Entfällt krankheitsbedingt.\nWir bitten um Ihr Verständnis.
URL:https://overbeck-museum.de/veranstaltung/fuehrung-bild-des-monats-62/
LOCATION:Overbeck-Museum\, Alte Hafenstraße 30\, Bremen\, 28757
CATEGORIES:Kurzführung
ATTACH;FMTTYPE=image/jpeg:https://overbeck-museum.de/wp-content/uploads/2023/08/FO-Vom-Weyerberg-500.jpg
ORGANIZER;CN="Overbeck-Museum":MAILTO:info@overbeck-museum.de
END:VEVENT
END:VCALENDAR