BEGIN:VCALENDAR
VERSION:2.0
PRODID:-//Overbeck-Museum - ECPv5.16.4.1//NONSGML v1.0//EN
CALSCALE:GREGORIAN
METHOD:PUBLISH
X-WR-CALNAME:Overbeck-Museum
X-ORIGINAL-URL:https://overbeck-museum.de
X-WR-CALDESC:Veranstaltungen für Overbeck-Museum
BEGIN:VTIMEZONE
TZID:Europe/Berlin
BEGIN:DAYLIGHT
TZOFFSETFROM:+0100
TZOFFSETTO:+0200
TZNAME:CEST
DTSTART:20240331T010000
END:DAYLIGHT
BEGIN:STANDARD
TZOFFSETFROM:+0200
TZOFFSETTO:+0100
TZNAME:CET
DTSTART:20241027T010000
END:STANDARD
END:VTIMEZONE
BEGIN:VEVENT
DTSTART;TZID=Europe/Berlin:20241124T113000
DTEND;TZID=Europe/Berlin:20241124T123000
DTSTAMP:20260422T164333
CREATED:20241104T132946Z
LAST-MODIFIED:20241104T132946Z
UID:18369-1732447800-1732451400@overbeck-museum.de
SUMMARY:Künstlergespräch | Im Moor
DESCRIPTION:Künstlergespräch\nmit Bernd Pöppelmann
URL:https://overbeck-museum.de/veranstaltung/kuenstlergespraech-im-moor/
LOCATION:Overbeck-Museum\, Alte Hafenstraße 30\, Bremen\, 28757
CATEGORIES:Künstlergespräch
ATTACH;FMTTYPE=image/jpeg:https://overbeck-museum.de/wp-content/uploads/2024/06/Poeppelmann-Im-Moor-500.jpg
ORGANIZER;CN="Overbeck-Museum":MAILTO:info@overbeck-museum.de
END:VEVENT
END:VCALENDAR