BEGIN:VCALENDAR
VERSION:2.0
PRODID:-//Overbeck-Museum - ECPv5.16.4.1//NONSGML v1.0//EN
CALSCALE:GREGORIAN
METHOD:PUBLISH
X-WR-CALNAME:Overbeck-Museum
X-ORIGINAL-URL:https://overbeck-museum.de
X-WR-CALDESC:Veranstaltungen für Overbeck-Museum
BEGIN:VTIMEZONE
TZID:Europe/Berlin
BEGIN:DAYLIGHT
TZOFFSETFROM:+0100
TZOFFSETTO:+0200
TZNAME:CEST
DTSTART:20250330T010000
END:DAYLIGHT
BEGIN:STANDARD
TZOFFSETFROM:+0200
TZOFFSETTO:+0100
TZNAME:CET
DTSTART:20251026T010000
END:STANDARD
END:VTIMEZONE
BEGIN:VEVENT
DTSTART;TZID=Europe/Berlin:20250427T113000
DTEND;TZID=Europe/Berlin:20250427T123000
DTSTAMP:20260421T185852
CREATED:20241107T090005Z
LAST-MODIFIED:20241107T114231Z
UID:18432-1745753400-1745757000@overbeck-museum.de
SUMMARY:Künstlerinnengespräch | Nordisch weit (Finissage)
DESCRIPTION:Künstlerinnengespräch\nmit Martina Tams (Finissage)
URL:https://overbeck-museum.de/veranstaltung/kuenstlerinnengespraech-nordisch-weit-finissage/
LOCATION:Overbeck-Museum\, Alte Hafenstraße 30\, Bremen\, 28757
CATEGORIES:Führung
ATTACH;FMTTYPE=image/jpeg:https://overbeck-museum.de/wp-content/uploads/2024/07/Nordisch-weit-Doppelbild-500.jpg
ORGANIZER;CN="Overbeck-Museum":MAILTO:info@overbeck-museum.de
END:VEVENT
END:VCALENDAR