BEGIN:VCALENDAR
VERSION:2.0
PRODID:-//Overbeck-Museum - ECPv5.16.4.1//NONSGML v1.0//EN
CALSCALE:GREGORIAN
METHOD:PUBLISH
X-WR-CALNAME:Overbeck-Museum
X-ORIGINAL-URL:https://overbeck-museum.de
X-WR-CALDESC:Veranstaltungen für Overbeck-Museum
BEGIN:VTIMEZONE
TZID:Europe/Berlin
BEGIN:DAYLIGHT
TZOFFSETFROM:+0100
TZOFFSETTO:+0200
TZNAME:CEST
DTSTART:20230326T010000
END:DAYLIGHT
BEGIN:STANDARD
TZOFFSETFROM:+0200
TZOFFSETTO:+0100
TZNAME:CET
DTSTART:20231029T010000
END:STANDARD
END:VTIMEZONE
BEGIN:VEVENT
DTSTART;TZID=Europe/Berlin:20230924T113000
DTEND;TZID=Europe/Berlin:20230924T123000
DTSTAMP:20260422T044005
CREATED:20230709T140123Z
LAST-MODIFIED:20230709T140351Z
UID:16769-1695555000-1695558600@overbeck-museum.de
SUMMARY:Poesie-Führung | Leise Landschaften
DESCRIPTION:Meditatives Eintauchen in Gemälde und Gedichte\nmit Museumsleiterin Katja Pourshirazi
URL:https://overbeck-museum.de/veranstaltung/poesie-fuehrung-leise-landschaften/
LOCATION:Overbeck-Museum\, Alte Hafenstraße 30\, Bremen\, 28757
CATEGORIES:Führung
ATTACH;FMTTYPE=image/jpeg:https://overbeck-museum.de/wp-content/uploads/2023/07/Thilini-Zach-Samadhi-2022.jpg
ORGANIZER;CN="Overbeck-Museum":MAILTO:info@overbeck-museum.de
END:VEVENT
END:VCALENDAR