BEGIN:VCALENDAR
VERSION:2.0
PRODID:-//Overbeck-Museum - ECPv5.16.4.1//NONSGML v1.0//EN
CALSCALE:GREGORIAN
METHOD:PUBLISH
X-WR-CALNAME:Overbeck-Museum
X-ORIGINAL-URL:https://overbeck-museum.de
X-WR-CALDESC:Veranstaltungen für Overbeck-Museum
BEGIN:VTIMEZONE
TZID:Europe/Berlin
BEGIN:DAYLIGHT
TZOFFSETFROM:+0100
TZOFFSETTO:+0200
TZNAME:CEST
DTSTART:20230326T010000
END:DAYLIGHT
BEGIN:STANDARD
TZOFFSETFROM:+0200
TZOFFSETTO:+0100
TZNAME:CET
DTSTART:20231029T010000
END:STANDARD
END:VTIMEZONE
BEGIN:VEVENT
DTSTART;TZID=Europe/Berlin:20230503T190000
DTEND;TZID=Europe/Berlin:20230503T203000
DTSTAMP:20260421T132707
CREATED:20230116T142429Z
LAST-MODIFIED:20230116T142458Z
UID:16123-1683140400-1683145800@overbeck-museum.de
SUMMARY:SpeicherTalk im Vegesacker Geschichtenhaus | Auf Sicht - Die Norddeutschen Realisten malen in Bremen
DESCRIPTION:Mit dem Künstler Till Warwas\, Museumsleiterin Dr. Katja Pourshirazi und Helle Rothe.
URL:https://overbeck-museum.de/veranstaltung/speichertalk-im-vegesacker-geschichtenhaus-auf-sicht-die-norddeutschen-realisten-malen-in-bremen/
LOCATION:Overbeck-Museum\, Alte Hafenstraße 30\, Bremen\, 28757
CATEGORIES:Künstlergespräch
ATTACH;FMTTYPE=image/jpeg:https://overbeck-museum.de/wp-content/uploads/2023/01/Till-Warwas-Luerssen-Werft-500.jpg
ORGANIZER;CN="Overbeck-Museum":MAILTO:info@overbeck-museum.de
END:VEVENT
END:VCALENDAR