BEGIN:VCALENDAR
VERSION:2.0
PRODID:-//Overbeck-Museum - ECPv5.16.4.1//NONSGML v1.0//EN
CALSCALE:GREGORIAN
METHOD:PUBLISH
X-WR-CALNAME:Overbeck-Museum
X-ORIGINAL-URL:https://overbeck-museum.de
X-WR-CALDESC:Veranstaltungen für Overbeck-Museum
BEGIN:VTIMEZONE
TZID:Europe/Berlin
BEGIN:DAYLIGHT
TZOFFSETFROM:+0100
TZOFFSETTO:+0200
TZNAME:CEST
DTSTART:20240331T010000
END:DAYLIGHT
BEGIN:STANDARD
TZOFFSETFROM:+0200
TZOFFSETTO:+0100
TZNAME:CET
DTSTART:20241027T010000
END:STANDARD
END:VTIMEZONE
BEGIN:VEVENT
DTSTART;TZID=Europe/Berlin:20240210T170000
DTEND;TZID=Europe/Berlin:20240210T233000
DTSTAMP:20260422T183832
CREATED:20230927T133539Z
LAST-MODIFIED:20230927T133539Z
UID:17686-1707584400-1707607800@overbeck-museum.de
SUMMARY:Theaterfahrt zum Stadttheater Bremerhaven
DESCRIPTION:„Die lustige Witwe“ (Operette)\nDie wohl bekanntestes Operette von Franz Léhar überzeugt mit mitreißenden Musik- und Tanznummern. \n60 Euro (58 Euro für Mitglieder)\nZahlung der Teilnahmegebühr bitte bis 23.01. \nHier können Sie die Informationen und das Anmeldeformular herunterladen... \nHier geht’s zur Theaterfahrt…
URL:https://overbeck-museum.de/veranstaltung/theaterfahrt-zum-stadttheater-bremerhaven-23/
LOCATION:Stadttheater Bremerhaven\, Theodor-Heuss-Platz\, Bremerhaven\, 27568
CATEGORIES:Theaterfahrt
ATTACH;FMTTYPE=image/jpeg:https://overbeck-museum.de/wp-content/uploads/2019/08/Stadttheater-Bremerhaven_500x.jpg
END:VEVENT
END:VCALENDAR