BEGIN:VCALENDAR
VERSION:2.0
PRODID:-//Overbeck-Museum - ECPv5.16.4.1//NONSGML v1.0//EN
CALSCALE:GREGORIAN
METHOD:PUBLISH
X-WR-CALNAME:Overbeck-Museum
X-ORIGINAL-URL:https://overbeck-museum.de
X-WR-CALDESC:Veranstaltungen für Overbeck-Museum
BEGIN:VTIMEZONE
TZID:Europe/Berlin
BEGIN:DAYLIGHT
TZOFFSETFROM:+0100
TZOFFSETTO:+0200
TZNAME:CEST
DTSTART:20260329T010000
END:DAYLIGHT
BEGIN:STANDARD
TZOFFSETFROM:+0200
TZOFFSETTO:+0100
TZNAME:CET
DTSTART:20261025T010000
END:STANDARD
END:VTIMEZONE
BEGIN:VEVENT
DTSTART;TZID=Europe/Berlin:20260121T180000
DTEND;TZID=Europe/Berlin:20260121T190000
DTSTAMP:20260420T204328
CREATED:20250909T122951Z
LAST-MODIFIED:20250909T123752Z
UID:19007-1769018400-1769022000@overbeck-museum.de
SUMMARY:Vortrag | Du traust mir nicht genug Talent zu!
DESCRIPTION:Vortrag zu Leben und Werk der Malerin Hermine Overbeck-Rohte\, mit Museumsleiterin Katja Pourshirazi
URL:https://overbeck-museum.de/veranstaltung/vortrag-du-traust-mir-nicht-genug-talent-zu/
LOCATION:Overbeck-Museum\, Alte Hafenstraße 30\, Bremen\, 28757
CATEGORIES:Vortrag
ATTACH;FMTTYPE=image/jpeg:https://overbeck-museum.de/wp-content/uploads/2025/09/Du-traust-mir-nicht-genug-Talent-zu-neu-500.jpg
ORGANIZER;CN="Overbeck-Museum":MAILTO:info@overbeck-museum.de
END:VEVENT
END:VCALENDAR