BEGIN:VCALENDAR
VERSION:2.0
PRODID:-//Overbeck-Museum - ECPv5.16.4.1//NONSGML v1.0//EN
CALSCALE:GREGORIAN
METHOD:PUBLISH
X-WR-CALNAME:Overbeck-Museum
X-ORIGINAL-URL:https://overbeck-museum.de
X-WR-CALDESC:Veranstaltungen für Overbeck-Museum
BEGIN:VTIMEZONE
TZID:Europe/Berlin
BEGIN:DAYLIGHT
TZOFFSETFROM:+0100
TZOFFSETTO:+0200
TZNAME:CEST
DTSTART:20240331T010000
END:DAYLIGHT
BEGIN:STANDARD
TZOFFSETFROM:+0200
TZOFFSETTO:+0100
TZNAME:CET
DTSTART:20241027T010000
END:STANDARD
END:VTIMEZONE
BEGIN:VEVENT
DTSTART;TZID=Europe/Berlin:20241213T110000
DTEND;TZID=Europe/Berlin:20241213T133000
DTSTAMP:20260422T085601
CREATED:20241203T093735Z
LAST-MODIFIED:20241203T094558Z
UID:18477-1734087600-1734096600@overbeck-museum.de
SUMMARY:Wegen Betriebsversammlung erst ab 13.30 Uhr geöffnet
DESCRIPTION:
URL:https://overbeck-museum.de/veranstaltung/wegen-betriebsversammlung-erst-ab-13-uhr-geoeffnet/
CATEGORIES:Ausstellungswechsel
END:VEVENT
END:VCALENDAR