BEGIN:VCALENDAR
VERSION:2.0
PRODID:-//Overbeck-Museum - ECPv5.16.4.1//NONSGML v1.0//EN
CALSCALE:GREGORIAN
METHOD:PUBLISH
X-WR-CALNAME:Overbeck-Museum
X-ORIGINAL-URL:https://overbeck-museum.de
X-WR-CALDESC:Veranstaltungen für Overbeck-Museum
BEGIN:VTIMEZONE
TZID:Europe/Berlin
BEGIN:DAYLIGHT
TZOFFSETFROM:+0100
TZOFFSETTO:+0200
TZNAME:CEST
DTSTART:20240331T010000
END:DAYLIGHT
BEGIN:STANDARD
TZOFFSETFROM:+0200
TZOFFSETTO:+0100
TZNAME:CET
DTSTART:20241027T010000
END:STANDARD
END:VTIMEZONE
BEGIN:VEVENT
DTSTART;TZID=Europe/Berlin:20240121T113000
DTEND;TZID=Europe/Berlin:20240121T123000
DTSTAMP:20260419T161244
CREATED:20230709T143818Z
LAST-MODIFIED:20230709T143818Z
UID:16806-1705836600-1705840200@overbeck-museum.de
SUMMARY:Führung | Novemberland
DESCRIPTION:Führung durch die Ausstellung\nmit Museumsleiterin Katja Pourshirazi (Finissage)
URL:https://overbeck-museum.de/veranstaltung/fuehrung-novemberland-2/
LOCATION:Overbeck-Museum\, Alte Hafenstraße 30\, Bremen\, 28757
CATEGORIES:Führung
ATTACH;FMTTYPE=image/jpeg:https://overbeck-museum.de/wp-content/uploads/2023/07/Helmut-Feldmann-LANDSCHAFT-II-500.jpg
ORGANIZER;CN="Overbeck-Museum":MAILTO:info@overbeck-museum.de
END:VEVENT
END:VCALENDAR