BEGIN:VCALENDAR
VERSION:2.0
PRODID:-//Overbeck-Museum - ECPv5.16.4.1//NONSGML v1.0//EN
CALSCALE:GREGORIAN
METHOD:PUBLISH
X-WR-CALNAME:Overbeck-Museum
X-ORIGINAL-URL:https://overbeck-museum.de
X-WR-CALDESC:Veranstaltungen für Overbeck-Museum
BEGIN:VTIMEZONE
TZID:Europe/Berlin
BEGIN:DAYLIGHT
TZOFFSETFROM:+0100
TZOFFSETTO:+0200
TZNAME:CEST
DTSTART:20250330T010000
END:DAYLIGHT
BEGIN:STANDARD
TZOFFSETFROM:+0200
TZOFFSETTO:+0100
TZNAME:CET
DTSTART:20251026T010000
END:STANDARD
END:VTIMEZONE
BEGIN:VEVENT
DTSTART;TZID=Europe/Berlin:20250309T123000
DTEND;TZID=Europe/Berlin:20250309T190000
DTSTAMP:20260423T002840
CREATED:20240604T135020Z
LAST-MODIFIED:20240604T135020Z
UID:18194-1741523400-1741546800@overbeck-museum.de
SUMMARY:Theaterfahrt zum Stadttheater Bremerhaven
DESCRIPTION:„Die Troerinnen“ (Schauspiel)\n65 Euro (63 Euro für Mitglieder)\nZahlung der Teilnahmegebühr bitte bis 26.02. \nHier können Sie die Informationen und das Anmeldeformular herunterladen… \nHier geht’s zur Theaterfahrt…
URL:https://overbeck-museum.de/veranstaltung/theaterfahrt-zum-stadttheater-bremerhaven-32/
LOCATION:Stadttheater Bremerhaven\, Theodor-Heuss-Platz\, Bremerhaven\, 27568
CATEGORIES:Theaterfahrt
ATTACH;FMTTYPE=image/jpeg:https://overbeck-museum.de/wp-content/uploads/2019/08/Stadttheater-Bremerhaven_500x.jpg
END:VEVENT
END:VCALENDAR