BEGIN:VCALENDAR
VERSION:2.0
PRODID:-//Overbeck-Museum - ECPv5.16.4.1//NONSGML v1.0//EN
CALSCALE:GREGORIAN
METHOD:PUBLISH
X-WR-CALNAME:Overbeck-Museum
X-ORIGINAL-URL:https://overbeck-museum.de
X-WR-CALDESC:Veranstaltungen für Overbeck-Museum
BEGIN:VTIMEZONE
TZID:Europe/Berlin
BEGIN:DAYLIGHT
TZOFFSETFROM:+0100
TZOFFSETTO:+0200
TZNAME:CEST
DTSTART:20260329T010000
END:DAYLIGHT
BEGIN:STANDARD
TZOFFSETFROM:+0200
TZOFFSETTO:+0100
TZNAME:CET
DTSTART:20261025T010000
END:STANDARD
END:VTIMEZONE
BEGIN:VEVENT
DTSTART;TZID=Europe/Berlin:20260125T170000
DTEND;TZID=Europe/Berlin:20260125T180000
DTSTAMP:20260420T190028
CREATED:20250909T123538Z
LAST-MODIFIED:20250909T123726Z
UID:19013-1769360400-1769364000@overbeck-museum.de
SUMMARY:Lesung | Mein lieber\, lieber Schatz!
DESCRIPTION:Lesung aus dem Briefwechsel zwischen Hermine und Fritz Overbeck\, mit Helle Rothe und Martin Mader
URL:https://overbeck-museum.de/veranstaltung/lesung-mein-lieber-lieber-schatz/
LOCATION:Overbeck-Museum\, Alte Hafenstraße 30\, Bremen\, 28757
CATEGORIES:Lesung
ATTACH;FMTTYPE=image/jpeg:https://overbeck-museum.de/wp-content/uploads/2019/10/Hermine-und-Fritz-Overbeck-500x.jpg
ORGANIZER;CN="Overbeck-Museum":MAILTO:info@overbeck-museum.de
END:VEVENT
END:VCALENDAR