BEGIN:VCALENDAR
VERSION:2.0
PRODID:-//Overbeck-Museum - ECPv5.16.4.1//NONSGML v1.0//EN
CALSCALE:GREGORIAN
METHOD:PUBLISH
X-WR-CALNAME:Overbeck-Museum
X-ORIGINAL-URL:https://overbeck-museum.de
X-WR-CALDESC:Veranstaltungen für Overbeck-Museum
BEGIN:VTIMEZONE
TZID:Europe/Berlin
BEGIN:DAYLIGHT
TZOFFSETFROM:+0100
TZOFFSETTO:+0200
TZNAME:CEST
DTSTART:20220327T010000
END:DAYLIGHT
BEGIN:STANDARD
TZOFFSETFROM:+0200
TZOFFSETTO:+0100
TZNAME:CET
DTSTART:20221030T010000
END:STANDARD
END:VTIMEZONE
BEGIN:VEVENT
DTSTART;TZID=Europe/Berlin:20221207T110000
DTEND;TZID=Europe/Berlin:20221207T140000
DTSTAMP:20260426T012253
CREATED:20221115T111033Z
LAST-MODIFIED:20221115T111033Z
UID:16014-1670410800-1670421600@overbeck-museum.de
SUMMARY:Wegen Betriebsversammlung 11-14 Uhr geschlossen
DESCRIPTION:Das Museum ist geöffnet von 14 -18 Uhr.
URL:https://overbeck-museum.de/veranstaltung/wegen-betriebsversammlung-11-14-uhr-geschlossen/
CATEGORIES:Ausstellungswechsel
END:VEVENT
END:VCALENDAR