BEGIN:VCALENDAR
VERSION:2.0
PRODID:-//Overbeck-Museum - ECPv5.16.4.1//NONSGML v1.0//EN
CALSCALE:GREGORIAN
METHOD:PUBLISH
X-WR-CALNAME:Overbeck-Museum
X-ORIGINAL-URL:https://overbeck-museum.de
X-WR-CALDESC:Veranstaltungen für Overbeck-Museum
BEGIN:VTIMEZONE
TZID:Europe/Berlin
BEGIN:DAYLIGHT
TZOFFSETFROM:+0100
TZOFFSETTO:+0200
TZNAME:CEST
DTSTART:20260329T010000
END:DAYLIGHT
BEGIN:STANDARD
TZOFFSETFROM:+0200
TZOFFSETTO:+0100
TZNAME:CET
DTSTART:20261025T010000
END:STANDARD
END:VTIMEZONE
BEGIN:VEVENT
DTSTART;VALUE=DATE:20261116
DTEND;VALUE=DATE:20261129
DTSTAMP:20260420T014223
CREATED:20250902T151229Z
LAST-MODIFIED:20250902T151229Z
UID:19003-1794787200-1795910399@overbeck-museum.de
SUMMARY:Wegen Ausstellungswechsel geschlossen
DESCRIPTION:
URL:https://overbeck-museum.de/veranstaltung/wegen-ausstellungswechsel-geschlossen-26/
CATEGORIES:Ausstellungswechsel
END:VEVENT
END:VCALENDAR