BEGIN:VCALENDAR
VERSION:2.0
PRODID:-//Overbeck-Museum - ECPv5.16.4.1//NONSGML v1.0//EN
CALSCALE:GREGORIAN
METHOD:PUBLISH
X-WR-CALNAME:Overbeck-Museum
X-ORIGINAL-URL:https://overbeck-museum.de
X-WR-CALDESC:Veranstaltungen für Overbeck-Museum
BEGIN:VTIMEZONE
TZID:Europe/Berlin
BEGIN:DAYLIGHT
TZOFFSETFROM:+0100
TZOFFSETTO:+0200
TZNAME:CEST
DTSTART:20230326T010000
END:DAYLIGHT
BEGIN:STANDARD
TZOFFSETFROM:+0200
TZOFFSETTO:+0100
TZNAME:CET
DTSTART:20231029T010000
END:STANDARD
END:VTIMEZONE
BEGIN:VEVENT
DTSTART;TZID=Europe/Berlin:20230527T193000
DTEND;TZID=Europe/Berlin:20230527T223000
DTSTAMP:20260421T060806
CREATED:20220906T131212Z
LAST-MODIFIED:20220906T131212Z
UID:15923-1685215800-1685226600@overbeck-museum.de
SUMMARY:Theaterfahrt zum Stadttheater Bremerhaven
DESCRIPTION:„Operettengala – Der Zigeunerbaron“\nDer Komponist Johann Strauss ist ein Garant für mitreißende Melodien. Die festliche Gala mit den schönsten Ohrwürmern aus dem „Zigeunerbaron“ macht beim Zuhören ganz sicher jedem gute Laune \n52 Euro (50 Euro für Mitglieder)\nZahlung der Teilnahmegebühr bitte bis 10.05. \nHier können Sie die Informationen und das Anmeldeformular herunterladen… \nHier geht’s zur Theaterfahrt…
URL:https://overbeck-museum.de/veranstaltung/theaterfahrt-zum-stadttheater-bremerhaven-17/
LOCATION:Stadttheater Bremerhaven\, Theodor-Heuss-Platz\, Bremerhaven\, 27568
CATEGORIES:Theaterfahrt
ATTACH;FMTTYPE=image/jpeg:https://overbeck-museum.de/wp-content/uploads/2019/08/Stadttheater-Bremerhaven_500x.jpg
END:VEVENT
END:VCALENDAR